BEGIN:VCALENDAR
VERSION:2.0
CALSCALE:GREGORIAN
PRODID:-//MyApp//Calendar 1.0//EN
BEGIN:VEVENT
METHOD:PUBLISH
UID:34256@regionalniportaly.cz
DTSTAMP:20260422T215820Z
DTSTART;VALUE=DATE:20230902
DTEND;VALUE=DATE:20230903
SUMMARY:Civilní Obrana - Paběnice
DESCRIPTION:Letní parket v&nbsp\;Paběnicích nabízí krásný prostor s velkým pódiem\, kde se 02.09.2023 uskuteční skvělý hudební večer. Nechte se unést energií kapel The Cycle\,&nbsp\;Wotazník\, Jurič Pařil a hlavní kapely CIVILNÍ OBRANA. Tento nezapomenutelný hudební zážitek je připraven právě pro vás!Přijďte si užít jedinečnou atmosféru letního parketu v Paběnicích\, který nabídne skvělou hudbu\, výbornou zábavu a neopakovatelný večer plný skvělých melodií. Velké pódium vytvoří perfektní prostor pro tyto vynikající kapely\, které vás rozhodně nenechají sedět. The Cycle\,&nbsp\;Wotazník\, Jurič Pařil a hlavní kapela CIVILNÍ OBRANA&nbsp\;zahrají&nbsp\;své nejlepší skladby\, abyste si užili opravdový hudebí nářez.Nezapomeňte si tedy 02.09.2023 zarezervovat tento termín v kalendáři a pořiďte si své vstupenky již nyní. Těšíme se na vás a na společné strhující hudební dobrodružství!
LOCATION:Paběnice
END:VEVENT
END:VCALENDAR