BEGIN:VCALENDAR
VERSION:2.0
CALSCALE:GREGORIAN
PRODID:-//MyApp//Calendar 1.0//EN
BEGIN:VEVENT
METHOD:PUBLISH
UID:34675@regionalniportaly.cz
DTSTAMP:20260423T001147Z
DTSTART;VALUE=DATE:20231125
DTEND;VALUE=DATE:20231126
SUMMARY:Degustace vín rodinného vinařství Vican
DESCRIPTION:Rodinné vinařství Vican – Chrudimskou šatlavu navštíví Šárka Malaníková z&nbsp\;vinařství Vican\, které je producentem a tvůrcem legendární trilogie Bobule\, která oslavuje celou krásnou Pálavu plnou slunce\, úsměvů\, překrásných míst a skvělého vína.
LOCATION:Chrudim
END:VEVENT
END:VCALENDAR