BEGIN:VCALENDAR
VERSION:2.0
CALSCALE:GREGORIAN
PRODID:-//MyApp//Calendar 1.0//EN
BEGIN:VEVENT
METHOD:PUBLISH
UID:34692@regionalniportaly.cz
DTSTAMP:20260422T215948Z
DTSTART;VALUE=DATE:20230908
DTEND;VALUE=DATE:20230909
SUMMARY:Úhel pohledu se Sandrou Pogodovou
DESCRIPTION:Máte už dost svých mindrákū a předstírání\, že jste někdo jiný?Chcete si rozumět a přijmout se takoví\, jací jste a nemít u toho strach\, že vás ostatní možná nebudou mít rádi?Teď je doba na transformace\, tak ji využijte a přijďte se probudit a uvolnit stavidla spolu se Sandrou Pogodovou!Vtipně i vážně\, hluboce i mělce...přijďte si to užít!
LOCATION:Chotěboř
END:VEVENT
END:VCALENDAR