BEGIN:VCALENDAR
VERSION:2.0
CALSCALE:GREGORIAN
PRODID:-//MyApp//Calendar 1.0//EN
BEGIN:VEVENT
METHOD:PUBLISH
UID:34731@regionalniportaly.cz
DTSTAMP:20260423T014456Z
DTSTART;VALUE=DATE:20231012
DTEND;VALUE=DATE:20231013
SUMMARY:Na stojáka - Chrudim
DESCRIPTION:Na stojáka v R klubu.
LOCATION:Chrudim
END:VEVENT
END:VCALENDAR