BEGIN:VCALENDAR
VERSION:2.0
CALSCALE:GREGORIAN
PRODID:-//MyApp//Calendar 1.0//EN
BEGIN:VEVENT
METHOD:PUBLISH
UID:34919@regionalniportaly.cz
DTSTAMP:20260422T234935Z
DTSTART;VALUE=DATE:20230909
DTEND;VALUE=DATE:20230910
SUMMARY:Chrudim (o) žije - rockotéka v R Klubu
DESCRIPTION:Velice rádi se zúčastníme tohoto skvělého projektu.Chrudim (o) žije.&nbsp\;DJ Jozzy&nbsp\;
LOCATION:Chrudim
END:VEVENT
END:VCALENDAR