BEGIN:VCALENDAR
VERSION:2.0
CALSCALE:GREGORIAN
PRODID:-//MyApp//Calendar 1.0//EN
BEGIN:VEVENT
METHOD:PUBLISH
UID:35176@regionalniportaly.cz
DTSTAMP:20260423T001043Z
DTSTART;VALUE=DATE:20231104
DTEND;VALUE=DATE:20231105
SUMMARY:Gaia Mesiah - Chrudim
DESCRIPTION:Gaia v R Klubu.
LOCATION:Chrudim
END:VEVENT
END:VCALENDAR