BEGIN:VCALENDAR
VERSION:2.0
CALSCALE:GREGORIAN
PRODID:-//MyApp//Calendar 1.0//EN
BEGIN:VEVENT
METHOD:PUBLISH
UID:37067@regionalniportaly.cz
DTSTAMP:20260423T014324Z
DTSTART;VALUE=DATE:20231226
DTEND;VALUE=DATE:20231227
SUMMARY:Vánoční koncert
DESCRIPTION:Vánoční&nbsp\;koncert s vynikajícími interprety\, kteří nám přinášejí prožitek v podobě nejznámějších vánočních koled z celého světa&nbsp\;v tento neopakovatelný čas Vánoc.Program:&nbsp\;W. Gomez -&nbsp\; &nbsp\;Ave MariaJ. F. Wade -&nbsp\;&nbsp\;Adeste Fideles&nbsp\;A. Stradella -&nbsp\;&nbsp\;Pietá\,&nbsp\; Signore!A. H. Malotte&nbsp\; - The Lords Prayer&nbsp\; &nbsp\; &nbsp\; &nbsp\; &nbsp\; &nbsp\; &nbsp\; &nbsp\; &nbsp\; &nbsp\; &nbsp\; &nbsp\; &nbsp\; V půlnoční hodinu&nbsp\;&nbsp\; &nbsp\; &nbsp\; &nbsp\; &nbsp\; &nbsp\; &nbsp\; &nbsp\; &nbsp\; &nbsp\; &nbsp\; &nbsp\; &nbsp\; Den přeslavný&nbsp\; &nbsp\; &nbsp\; &nbsp\; &nbsp\; &nbsp\; &nbsp\; &nbsp\; &nbsp\; &nbsp\; &nbsp\; &nbsp\; &nbsp\; Byla cesta&nbsp\;M. Ducháč - Štastné Vánoce&nbsp\;G. F. Haendel&nbsp\;&nbsp\;-&nbsp\;Joy the world&nbsp\;&nbsp\; &nbsp\; &nbsp\; &nbsp\; &nbsp\; &nbsp\; &nbsp\; &nbsp\; &nbsp\; &nbsp\; &nbsp\; &nbsp\; &nbsp\;&nbsp\;The First NowellF. Gruber - Silent Night&nbsp\;I. Berlin - White ChristmasK. Stecker - Koleda\, směs nejoblíbenějších písní vánočních&nbsp\;Ch. Gounod - O\,&nbsp\;divine Redeemer&nbsp\;&nbsp\; &nbsp\; &nbsp\; &nbsp\; &nbsp\; &nbsp\; &nbsp\; &nbsp\; &nbsp\; &nbsp\; &nbsp\; &nbsp\;O Tannenbaum&nbsp\;H. Martin - Have yourself a little Marry Christmas&nbsp\;J. S. Pierpont - Jingle Bells
LOCATION:Přelouč
END:VEVENT
END:VCALENDAR