BEGIN:VCALENDAR
VERSION:2.0
CALSCALE:GREGORIAN
PRODID:-//MyApp//Calendar 1.0//EN
BEGIN:VEVENT
METHOD:PUBLISH
UID:37176@regionalniportaly.cz
DTSTAMP:20260423T035745Z
DTSTART;VALUE=DATE:20240203
DTEND;VALUE=DATE:20240204
SUMMARY:Pokáčovo Jaro 2024
DESCRIPTION:Pokáčovo jaro 2024
LOCATION:Čáslav
END:VEVENT
END:VCALENDAR