BEGIN:VCALENDAR
VERSION:2.0
CALSCALE:GREGORIAN
PRODID:-//MyApp//Calendar 1.0//EN
BEGIN:VEVENT
METHOD:PUBLISH
UID:37526@regionalniportaly.cz
DTSTAMP:20260423T000658Z
DTSTART;VALUE=DATE:20231208
DTEND;VALUE=DATE:20231209
SUMMARY:Oldies v R Klubu
DESCRIPTION:Oldies párty s Jardou Medunou.
LOCATION:Chrudim
END:VEVENT
END:VCALENDAR