BEGIN:VCALENDAR
VERSION:2.0
CALSCALE:GREGORIAN
PRODID:-//MyApp//Calendar 1.0//EN
BEGIN:VEVENT
METHOD:PUBLISH
UID:37607@regionalniportaly.cz
DTSTAMP:20260423T000458Z
DTSTART;VALUE=DATE:20240217
DTEND;VALUE=DATE:20240218
SUMMARY:Taneční veselice s M.T.O. Universal Praha
DESCRIPTION:Elvis Presley\, Miro Žbirka\, Boney M.\, Jana Kratochvílová\, Tom Jones\, Martin Maxa\, Joe Cocker\, Hana Zagorová\, Plavci\, Frank Sinatra\, Václav Neckář\, Rita Pavone a další a další… na jednom pódiu!Nevěříte? Přijďte a zažijete nemožné! Více než čtyři hodiny plné hvězd v podání hudebního seskupení M.T.O. Universal Praha. Za nástroji i mikrofony se představí přední pražští umělci – František Skála\, Zdeněk Lhotský\, Aleš Najbrt\, členové Divadla Sklep – Tomáš Hanák\, Lenka Vychodilová\, Jana Hanáková\, Fero Burda a virtuosi – Roman Fojtíček\, Jiří Kulich Novotný a Luděk Polifka.Dorazte\, bude to skvělá jízda! Tancovačka s výrazně divadelním přesahem.
LOCATION:Přelouč
END:VEVENT
END:VCALENDAR