BEGIN:VCALENDAR
VERSION:2.0
CALSCALE:GREGORIAN
PRODID:-//MyApp//Calendar 1.0//EN
BEGIN:VEVENT
METHOD:PUBLISH
UID:38281@regionalniportaly.cz
DTSTAMP:20260423T035712Z
DTSTART;VALUE=DATE:20240209
DTEND;VALUE=DATE:20240210
SUMMARY:Totální nasazení - Chrudim
DESCRIPTION:Totální nasazení v R klubu.
LOCATION:Chrudim
END:VEVENT
END:VCALENDAR