BEGIN:VCALENDAR
VERSION:2.0
CALSCALE:GREGORIAN
PRODID:-//MyApp//Calendar 1.0//EN
BEGIN:VEVENT
METHOD:PUBLISH
UID:38658@regionalniportaly.cz
DTSTAMP:20260423T035952Z
DTSTART;VALUE=DATE:20240202
DTEND;VALUE=DATE:20240203
SUMMARY:Oldies party - Chrudim
DESCRIPTION:Oldies party a s Jardou Medunou\, zase to bude hezký&nbsp\;.
LOCATION:Chrudim
END:VEVENT
END:VCALENDAR