BEGIN:VCALENDAR
VERSION:2.0
CALSCALE:GREGORIAN
PRODID:-//MyApp//Calendar 1.0//EN
BEGIN:VEVENT
METHOD:PUBLISH
UID:55824@regionalniportaly.cz
DTSTAMP:20260422T215736Z
DTSTART;VALUE=DATE:20260612
DTEND;VALUE=DATE:20260613
SUMMARY:PUNKPLUGGED FESTIVAL vol. 4
DESCRIPTION:Nejsme jen další fesťák\, JSME ZÁŽITEK - jsme víkendový festival plný skvělých kapel\, výborného jídla a piva.Přijeďte a buďte celý víkend UNPLUGGED - rozhodně to není nuda. Každá kapela to bere JINAK\, díky tomu uslyšíte nejen oblíbené songy v unikátním aranžmá ale i věci\, které by kapely obyčejně naživo nehrály. Vyniknou zde texty\, zpěv (i váš) a výkony jednotlivých nástrojů a muzikantů.Čtvrtý ročník se opět uskuteční v parádním areálu\, který disponuje trvale zastřešeným parketem a sezením - zde se bát deště a slunka rozhodně nemusíte. Najdete zde dostatek místa na sezení na lavičkách\, odpočinete si na lehátkách a sedacích vacích. Dětská zóna je v dohledu od pódia a na ní navazuje oplocený prostor pro stanování rodin nejmenšími punkery.Stanování ve stanovém městečku je ZDARMA a bar zde jede NONSTOP!!! od Pátečního poledne do Nedělního dopoledne.Vratné kelímky\, žádné plasty ani smažené jídlo\, čistý areál - na tom si zakládáme.Děti do 140ti cm a ZTP mají vstup zdarma.
LOCATION:Újezd u Přelouče
END:VEVENT
END:VCALENDAR