BEGIN:VCALENDAR
VERSION:2.0
CALSCALE:GREGORIAN
PRODID:-//MyApp//Calendar 1.0//EN
BEGIN:VEVENT
METHOD:PUBLISH
UID:55932@regionalniportaly.cz
DTSTAMP:20260423T035300Z
DTSTART;VALUE=DATE:20250913
DTEND;VALUE=DATE:20250914
SUMMARY:Československá párty - Chrudim (o)žije
DESCRIPTION:Párty s Dj Jardou Medunou na nebo po pouličním festivalu. Hudba\, tanec a mejdan.&nbsp\;Těšíme se moc 😍.
LOCATION:Chrudim
END:VEVENT
END:VCALENDAR