BEGIN:VCALENDAR
VERSION:2.0
CALSCALE:GREGORIAN
PRODID:-//MyApp//Calendar 1.0//EN
BEGIN:VEVENT
METHOD:PUBLISH
UID:56281@regionalniportaly.cz
DTSTAMP:20260423T020637Z
DTSTART;VALUE=DATE:20251009
DTEND;VALUE=DATE:20251010
SUMMARY:Kecy a politika - Chrudim
DESCRIPTION:Kecy a politika komentátorů Bohumila Pečinky a Petrose Michopulose. Současná politika pohledem dvou rozdílných osobností\, kteří se nebojí říct své názory.&nbsp\;Bohumil PečinkaPolitický komentátor a dlouholetý zástupce šéfredaktora Reflexu.Petros MichopulosExpert na politický marketing.
LOCATION:Chrudim
END:VEVENT
END:VCALENDAR