BEGIN:VCALENDAR
VERSION:2.0
CALSCALE:GREGORIAN
PRODID:-//MyApp//Calendar 1.0//EN
BEGIN:VEVENT
METHOD:PUBLISH
UID:57831@regionalniportaly.cz
DTSTAMP:20260423T014511Z
DTSTART;VALUE=DATE:20251205
DTEND;VALUE=DATE:20251206
SUMMARY:Oldies party - Chrudim
DESCRIPTION:Dj Jarda Meduna a jeho legendární párty v R Klubu.
LOCATION:Chrudim
END:VEVENT
END:VCALENDAR