BEGIN:VCALENDAR
VERSION:2.0
CALSCALE:GREGORIAN
PRODID:-//MyApp//Calendar 1.0//EN
BEGIN:VEVENT
METHOD:PUBLISH
UID:57883@regionalniportaly.cz
DTSTAMP:20260423T014434Z
DTSTART;VALUE=DATE:20251116
DTEND;VALUE=DATE:20251117
SUMMARY:Stezka odvahy / CHRUDIM
DESCRIPTION:Stezka odvahy míří do Chrudimi!Potkáte ty nejstrašidelnější pohádkové a nadpřirozené bytosti\, které otestují vaši odvahu a dovednosti. Připravte se na temná zákoutí a lehké tematické úkoly pro děti!Těšíme se na všechny malé i velké odvážlivce!&nbsp\;Vhodné pro děti 3 - 10 let📅 Datum: 16.11. 2025⏰&nbsp\;Čas: Najdete na své zakoupené vstupence📍 Místo: Městský park\, Chrudim (ul. Pardubická)🚩 Start: https://en.mapy.cz/s/nemakufotuKaždých 5 minut pouštíme na stezku skupinku přibližně 5 dětí s rodiči\, které budou mezi sebou soupeřit v odvaze a dovednostech.⚠️Zakoupením vstupenky berete na vědomí a souhlasíte\, že vstupujete na trasu výhradně na vlastní nebezpečí. Za svou bezpečnost a bezpečnost svých dětí zodpovídáte sami. ⚠️
LOCATION:Chrudim
END:VEVENT
END:VCALENDAR