BEGIN:VCALENDAR
VERSION:2.0
CALSCALE:GREGORIAN
PRODID:-//MyApp//Calendar 1.0//EN
BEGIN:VEVENT
METHOD:PUBLISH
UID:58141@regionalniportaly.cz
DTSTAMP:20260423T015729Z
DTSTART;VALUE=DATE:20251101
DTEND;VALUE=DATE:20251102
SUMMARY:Polymetal + Kabát revival west - Chrudim
DESCRIPTION:Polymetal - koncert k výročí 40 let kapely.
LOCATION:Chrudim
END:VEVENT
END:VCALENDAR