BEGIN:VCALENDAR
VERSION:2.0
CALSCALE:GREGORIAN
PRODID:-//MyApp//Calendar 1.0//EN
BEGIN:VEVENT
METHOD:PUBLISH
UID:58791@regionalniportaly.cz
DTSTAMP:20260423T014713Z
DTSTART;VALUE=DATE:20251128
DTEND;VALUE=DATE:20251129
SUMMARY:Progres 2\, návrat legendy
DESCRIPTION:
LOCATION:Chotěboř
END:VEVENT
END:VCALENDAR