BEGIN:VCALENDAR
VERSION:2.0
CALSCALE:GREGORIAN
PRODID:-//MyApp//Calendar 1.0//EN
BEGIN:VEVENT
METHOD:PUBLISH
UID:59615@regionalniportaly.cz
DTSTAMP:20260423T014249Z
DTSTART;VALUE=DATE:20251213
DTEND;VALUE=DATE:20251214
SUMMARY:III. Cenová - 13. narozeniny klubu - Chrudim
DESCRIPTION:III. Cenová a narozeniny klubu už mnoho let patří k sobě\, bude to opět legendární párty\, na kterou budou mnozí dlouho vzpomínat.&nbsp\;Těšíme se moc\, připravíme opět dárky a speciální narozeninový drink&nbsp\;.Kapacita klubu je omezená\, tak kupuj vstupenky včas.
LOCATION:Chrudim
END:VEVENT
END:VCALENDAR