BEGIN:VCALENDAR
VERSION:2.0
CALSCALE:GREGORIAN
PRODID:-//MyApp//Calendar 1.0//EN
BEGIN:VEVENT
METHOD:PUBLISH
UID:60367@regionalniportaly.cz
DTSTAMP:20260422T215802Z
DTSTART;VALUE=DATE:20260108
DTEND;VALUE=DATE:20260109
SUMMARY:Spiritual kvartet
DESCRIPTION:Vystoupení souboru Spiritual kvartet v kostele sv. Aloise
LOCATION:Uhlířské Janovice
END:VEVENT
END:VCALENDAR