BEGIN:VCALENDAR
VERSION:2.0
CALSCALE:GREGORIAN
PRODID:-//MyApp//Calendar 1.0//EN
BEGIN:VEVENT
METHOD:PUBLISH
UID:61001@regionalniportaly.cz
DTSTAMP:20260422T220221Z
DTSTART;VALUE=DATE:20260313
DTEND;VALUE=DATE:20260314
SUMMARY:Hardcore Legends night - Chrudim
DESCRIPTION:Takovej malej legendární sraz. Bude spousta legrace\, další info později.
LOCATION:Chrudim
END:VEVENT
END:VCALENDAR