BEGIN:VCALENDAR
VERSION:2.0
CALSCALE:GREGORIAN
PRODID:-//MyApp//Calendar 1.0//EN
BEGIN:VEVENT
METHOD:PUBLISH
UID:61165@regionalniportaly.cz
DTSTAMP:20260423T000519Z
DTSTART;VALUE=DATE:20260116
DTEND;VALUE=DATE:20260117
SUMMARY:Oldies party - Chrudim
DESCRIPTION:První oldieska v roce\, přijďte s námi rozjet rok 2026\, bude to opět krásné&nbsp\;.
LOCATION:Chrudim
END:VEVENT
END:VCALENDAR