BEGIN:VCALENDAR
VERSION:2.0
CALSCALE:GREGORIAN
PRODID:-//MyApp//Calendar 1.0//EN
BEGIN:VEVENT
METHOD:PUBLISH
UID:61166@regionalniportaly.cz
DTSTAMP:20260422T235018Z
DTSTART;VALUE=DATE:20251227
DTEND;VALUE=DATE:20251228
SUMMARY:Vánoční párty - Chrudim
DESCRIPTION:Tradiční vánoční československá párty s Dj Jardou Medunou 😍.
LOCATION:Chrudim
END:VEVENT
END:VCALENDAR