BEGIN:VCALENDAR
VERSION:2.0
CALSCALE:GREGORIAN
PRODID:-//MyApp//Calendar 1.0//EN
BEGIN:VEVENT
METHOD:PUBLISH
UID:61169@regionalniportaly.cz
DTSTAMP:20260422T220354Z
DTSTART;VALUE=DATE:20251225
DTEND;VALUE=DATE:20251226
SUMMARY:Vánoční oldies party - Chrudim
DESCRIPTION:Přijďte se pochlubit s dárky od Ježíška a shodit tanečkem nabraná kila po cukroví. Dj Jarda Meduna vám určitě zahraje i na vaše přání.&nbsp\;
LOCATION:Chrudim
END:VEVENT
END:VCALENDAR