BEGIN:VCALENDAR
VERSION:2.0
CALSCALE:GREGORIAN
PRODID:-//MyApp//Calendar 1.0//EN
BEGIN:VEVENT
METHOD:PUBLISH
UID:61351@regionalniportaly.cz
DTSTAMP:20260422T235128Z
DTSTART;VALUE=DATE:20260411
DTEND;VALUE=DATE:20260412
SUMMARY:Znouzectnost\, Deliwery - Chrudim
DESCRIPTION:Znouzectnost a Deliwery v eRku. Bude to jízda\, tak doraž na mejdan.&nbsp\;Nový termí konání akce je 11.4. 2026 !!!(plakát bude upraven)
LOCATION:Chrudim
END:VEVENT
END:VCALENDAR