BEGIN:VCALENDAR
VERSION:2.0
CALSCALE:GREGORIAN
PRODID:-//MyApp//Calendar 1.0//EN
BEGIN:VEVENT
METHOD:PUBLISH
UID:61474@regionalniportaly.cz
DTSTAMP:20260422T215850Z
DTSTART;VALUE=DATE:20260321
DTEND;VALUE=DATE:20260322
SUMMARY:NÁŘEZÁK - hudební festival
DESCRIPTION:Na počátku bylo světlo...&nbsp\;a z něj se zrodil nápad\, uskutečnit festival (nejen) zábavových kapel.&nbsp\;Proč Nářezák?&nbsp\;Tři místní taneční kapely\, každá hrající jiným stylem české i zahraniční hitya jeden autorský našlapaný Band\, který k nám zavítá až z Prahy!To je prostě totální NÁŘEZ!&nbsp\;🎸🎸🎸První ročník festivalu Nářezák!&nbsp\;Zvýhodněné vstupenky jsou již v předprodeji!&nbsp\;Tak nepropásni první vlny!&nbsp\;&nbsp\;&nbsp\;PolojasnoRe-Flex GroupBLDNouzovej stav
LOCATION:Dolní Kralovice
END:VEVENT
END:VCALENDAR