BEGIN:VCALENDAR
VERSION:2.0
CALSCALE:GREGORIAN
PRODID:-//MyApp//Calendar 1.0//EN
BEGIN:VEVENT
METHOD:PUBLISH
UID:61830@regionalniportaly.cz
DTSTAMP:20260422T215722Z
DTSTART;VALUE=DATE:20260220
DTEND;VALUE=DATE:20260221
SUMMARY:Roman Dragoun & His Angels - Chrudim
DESCRIPTION:Jednou z kapel\, v nichž hraje skladatel\, klávesista a zpěvák ROMAN DRAGOUN\, jsou HIS ANGELS. Ti sice nekoncertují často\, ale jejich vystoupení bývá příjemným zážitkem.&nbsp\;Roman Dragoun je v současnosti stálým členem legendárního brněnského Progresu 2 a kapely&nbsp\;Futurum.Je&nbsp\;zpěvákem i autorem mnoha vydařených skladeb těchto kapel.
LOCATION:Chrudim
END:VEVENT
END:VCALENDAR