BEGIN:VCALENDAR
VERSION:2.0
CALSCALE:GREGORIAN
PRODID:-//MyApp//Calendar 1.0//EN
BEGIN:VEVENT
METHOD:PUBLISH
UID:61831@regionalniportaly.cz
DTSTAMP:20260422T234708Z
DTSTART;VALUE=DATE:20260228
DTEND;VALUE=DATE:20260301
SUMMARY:Špejbls Helprs - Chrudim
DESCRIPTION:Nejlepší revival kapely AC/DC na světě\, to chceš.&nbsp\;
LOCATION:Chrudim
END:VEVENT
END:VCALENDAR