BEGIN:VCALENDAR
VERSION:2.0
CALSCALE:GREGORIAN
PRODID:-//MyApp//Calendar 1.0//EN
BEGIN:VEVENT
METHOD:PUBLISH
UID:61845@regionalniportaly.cz
DTSTAMP:20260422T215744Z
DTSTART;VALUE=DATE:20260306
DTEND;VALUE=DATE:20260307
SUMMARY:III. Cenová - Chrudim
DESCRIPTION:To bude zase krásný večírek\, moc se těšíme.&nbsp\;&nbsp\;
LOCATION:Chrudim
END:VEVENT
END:VCALENDAR