BEGIN:VCALENDAR
VERSION:2.0
CALSCALE:GREGORIAN
PRODID:-//MyApp//Calendar 1.0//EN
BEGIN:VEVENT
METHOD:PUBLISH
UID:61858@regionalniportaly.cz
DTSTAMP:20260422T234743Z
DTSTART;VALUE=DATE:20260417
DTEND;VALUE=DATE:20260418
SUMMARY:Pocta Zuzaně Navarové - Chrudim
DESCRIPTION:Kapela Pocta Zuzaně Navarové&nbsp\;vznikla v roce 2017 z původní kapely&nbsp\;Jazz Elements&nbsp\;působící na české scéně od roku 2015. Na jednom ze svých koncertů se rozhodli si pro radost zahrát pár písniček od kapel Nerez a Koa a koncert měl takový úspěch\, že se po nějakém čase rozhodli dál pokračovat jako Pocta Zuzaně Navarové.Na koncertech uslyšíte písně kapel Nerez i Koa v originálním podání šestičlenné sestavy v čele s Barborou Červinkovou\, která svým projevem v lidech dokáže vzbudit celou škálu emocí a s citem a pokorou zpívá písničky Zuzany Navarové.&nbsp\;Kapela je tvořena profesionálními muzikanty\, kteří také všichni zpívají a vznikají tak krásné vícehlasy\, kterými byla kapela Nerez proslulá. Nástrojové obsazení\, perkuse a trumpeta zase připomínají rytmiku a taneční písně kapely Koa.Kapela je však ve svém projevu velmi osobitá a oslavuje původní písničky v originálním podání.Na kytary hrají Tomáš Pecka a Standa Šedivý\, bubnuje Tonda Jína\, trubku a perkuse ovládá Nick Arthofer a bezpražcovou baskytaru Honza Neruda.&nbsp\;Koncerty bývají velmi interaktivní\, posluchači celou dobu zpívají a na závěr koncertu i tancují.''Snažíme se o co nejvěrnější podání písní. Zuzky tvorba je nesmrtelná a pro nás i publikum jsou to vždy velmi emotivní koncerty. Každý koncert hrajeme s velkou pokorou.''&nbsp\;
LOCATION:Chrudim
END:VEVENT
END:VCALENDAR