BEGIN:VCALENDAR
VERSION:2.0
CALSCALE:GREGORIAN
PRODID:-//MyApp//Calendar 1.0//EN
BEGIN:VEVENT
METHOD:PUBLISH
UID:61911@regionalniportaly.cz
DTSTAMP:20260422T203721Z
DTSTART;VALUE=DATE:20260523
DTEND;VALUE=DATE:20260524
SUMMARY:The UniQues 30 let - křest desky (support M.A.R.)
DESCRIPTION:The UniQues slaví 30 let od prvního songu. Po letité pauze jsou zpátky se zbrusu novým albem Mně by se tu líbilo. Jde vesměs o původní songy z devadesátek\, ovšem řádně upraveny a oděny v novém kabátu. Většina nebyla nikdy publikována. Těšit se můžete na živé provedení\, křest a pořádnou oslavu. Po oficiální části následuje jam a večer pro VIPs.support: M.A.R.
LOCATION:Chrudim
END:VEVENT
END:VCALENDAR