BEGIN:VCALENDAR
VERSION:2.0
CALSCALE:GREGORIAN
PRODID:-//MyApp//Calendar 1.0//EN
BEGIN:VEVENT
METHOD:PUBLISH
UID:62697@regionalniportaly.cz
DTSTAMP:20260422T234857Z
DTSTART;VALUE=DATE:20260130
DTEND;VALUE=DATE:20260131
SUMMARY:Disco party - Chrudim
DESCRIPTION:Disco párty v eRku. Bude to dlouhá noc.
LOCATION:Chrudim
END:VEVENT
END:VCALENDAR