BEGIN:VCALENDAR
VERSION:2.0
CALSCALE:GREGORIAN
PRODID:-//MyApp//Calendar 1.0//EN
BEGIN:VEVENT
METHOD:PUBLISH
UID:62872@regionalniportaly.cz
DTSTAMP:20260422T234658Z
DTSTART;VALUE=DATE:20260214
DTEND;VALUE=DATE:20260215
SUMMARY:25 let Promile - Chrudim
DESCRIPTION:Výroční mejdan skupiny PROMILE na svátek zamilovaných? Ideální spojení. PROMILE slaví čtvrt století a jak jinak než ve velkém stylu. Připraven je vypečený koncert s nejedním hostem a ve společnosti spřátelených spolků PARAGRAF 219 a JEDNOTA KOLÍN. No a možná bude i něco víc&nbsp\;Dovalte v sobotu 14. 2. 2026 do chrudimského R klubu a přesvědčte sami.Start akce ve 20 h.
LOCATION:Chrudim
END:VEVENT
END:VCALENDAR