BEGIN:VCALENDAR
VERSION:2.0
CALSCALE:GREGORIAN
PRODID:-//MyApp//Calendar 1.0//EN
BEGIN:VEVENT
METHOD:PUBLISH
UID:62874@regionalniportaly.cz
DTSTAMP:20260422T215752Z
DTSTART;VALUE=DATE:20260213
DTEND;VALUE=DATE:20260214
SUMMARY:Valentýnská párty - Chrudim
DESCRIPTION:Ideální párty na seznámení nebo na oslavu lásky\, přijďte prostě zapařit a o zbytek se postará tanec a alkohol&nbsp\;.&nbsp\;
LOCATION:Chrudim
END:VEVENT
END:VCALENDAR