BEGIN:VCALENDAR
VERSION:2.0
CALSCALE:GREGORIAN
PRODID:-//MyApp//Calendar 1.0//EN
BEGIN:VEVENT
METHOD:PUBLISH
UID:63433@regionalniportaly.cz
DTSTAMP:20260422T234612Z
DTSTART;VALUE=DATE:20260307
DTEND;VALUE=DATE:20260308
SUMMARY:KYX Orchestra & Band-a-SKA - Chrudim
DESCRIPTION:Další KYXácká párty v R-KlubuTentokrát spolu s Týnišťskými Band-a-SKA&nbsp\;19:00 doors20:00 KYXdohrává Band-a-SKATěšíme se na Vás!
LOCATION:Chrudim
END:VEVENT
END:VCALENDAR