BEGIN:VCALENDAR
VERSION:2.0
CALSCALE:GREGORIAN
PRODID:-//MyApp//Calendar 1.0//EN
BEGIN:VEVENT
METHOD:PUBLISH
UID:63707@regionalniportaly.cz
DTSTAMP:20260420T030710Z
DTSTART;VALUE=DATE:20260815
DTEND;VALUE=DATE:20260816
SUMMARY:FESTIVAL ESENCE ŽIVOTA
DESCRIPTION:Festival Esence života je oslavou jedinečné esence každého z nás. Setkáme se na krásném místě v přírodě\, v srdci Vysočiny\, kde společně vytvoříme prostor pro radost\, sdílení a inspiraci. Každý je vítán – každý z nás obohatí festival svou jedinečnou energií.Čeká nás neopakovatelný den plný hudby\, zpěvu\, rytmu a tance\, vůní\, uvolnění a radosti. Společně namícháme jedinečný esenciální koktejl zážitků. Těšit se můžete na úžasné hosty a interprety\, zajímavá povídání\, malování i prostor pro tvoření.Součástí festivalu bude také vynikající vegetariánské jídlo a stánky s krásným a voňavým zbožím.Děti jsou srdečně vítány v doprovodu dospělé osoby – do 10 let mají vstup zdarma a je pro ně připraven speciální program plný tvoření.Staňte se součástí tohoto výjimečného dne a prožijte festival\, který propojuje lidi\, přírodu a radost ze života.Více informací o vystupujících\, programu\, parkování\, jídle a zázemí najdete na webu esencezivota.cz/festival.&nbsp\;
LOCATION:Uhelná Příbram
END:VEVENT
END:VCALENDAR