BEGIN:VCALENDAR
VERSION:2.0
CALSCALE:GREGORIAN
PRODID:-//MyApp//Calendar 1.0//EN
BEGIN:VEVENT
METHOD:PUBLISH
UID:63758@regionalniportaly.cz
DTSTAMP:20260420T011019Z
DTSTART;VALUE=DATE:20260303
DTEND;VALUE=DATE:20260606
SUMMARY:Jaroslav Vostrovský
DESCRIPTION:Výtvarníci Čáslavska ve sbírkách městského muzea.
LOCATION:Čáslav
END:VEVENT
END:VCALENDAR