BEGIN:VCALENDAR
VERSION:2.0
CALSCALE:GREGORIAN
PRODID:-//MyApp//Calendar 1.0//EN
BEGIN:VEVENT
METHOD:PUBLISH
UID:64253@regionalniportaly.cz
DTSTAMP:20260422T234620Z
DTSTART;VALUE=DATE:20260314
DTEND;VALUE=DATE:20260315
SUMMARY:Disco párty - Chrudim
DESCRIPTION:Discopárty s Jardou\, bude tanec\, drinky a skvělá zábava. Těšíme se&nbsp\;.&nbsp\;Dívky a ženy vstup zdarma.&nbsp\;&nbsp\;
LOCATION:Chrudim
END:VEVENT
END:VCALENDAR