BEGIN:VCALENDAR
VERSION:2.0
CALSCALE:GREGORIAN
PRODID:-//MyApp//Calendar 1.0//EN
BEGIN:VEVENT
METHOD:PUBLISH
UID:65072@regionalniportaly.cz
DTSTAMP:20260420T061042Z
DTSTART;VALUE=DATE:20260604
DTEND;VALUE=DATE:20260605
SUMMARY:Kecy & politika - Chrudim
DESCRIPTION:Kecy a politika komentátorů Bohumila Pečinky a Petrose Michopulose. Současná politika pohledem dvou rozdílných osobností\, kteří se nebojí říct své názory.Bohumil PečinkaPolitický komentátor a dlouholetý zástupce šéfredaktora Reflexu.Petros MichopulosExpert na politický marketing
LOCATION:Chrudim
END:VEVENT
END:VCALENDAR