BEGIN:VCALENDAR
VERSION:2.0
CALSCALE:GREGORIAN
PRODID:-//MyApp//Calendar 1.0//EN
BEGIN:VEVENT
METHOD:PUBLISH
UID:65410@regionalniportaly.cz
DTSTAMP:20260420T041910Z
DTSTART;VALUE=DATE:20261014
DTEND;VALUE=DATE:20261015
SUMMARY:TIKI TAKA na cestách - Chrudim
DESCRIPTION:Zábavná talkshow pro fanynky a fanoušky nejen fotbalu. Protagonisté populární televizní talkshow Tiki-Taka\, která má za sebou na stanici Oneplay Sport už 300 odvysílaných epizod\, vyrážejí s živou verzí pořadu do všech koutů Česka.Petr Svěcený\, Petr Švancara\, Luděk Zelenka a jejich hosté jsou připraveni servírovat fotbal prostě jinak. A hlavně vás pobavit.
LOCATION:Chrudim
END:VEVENT
END:VCALENDAR