BEGIN:VCALENDAR
VERSION:2.0
CALSCALE:GREGORIAN
PRODID:-//MyApp//Calendar 1.0//EN
BEGIN:VEVENT
METHOD:PUBLISH
UID:65608@regionalniportaly.cz
DTSTAMP:20260420T025222Z
DTSTART;VALUE=DATE:20260427
DTEND;VALUE=DATE:20260517
SUMMARY:Výstava fotografií Fotoklubu Čáslav
DESCRIPTION:Vernisáž 27.4.2026 v 17 hodin. Výstavní síň na náměstí v Čáslavi.
LOCATION:Čáslav
END:VEVENT
END:VCALENDAR