BEGIN:VCALENDAR
VERSION:2.0
CALSCALE:GREGORIAN
PRODID:-//MyApp//Calendar 1.0//EN
BEGIN:VEVENT
METHOD:PUBLISH
UID:65647@regionalniportaly.cz
DTSTAMP:20260420T025718Z
DTSTART;VALUE=DATE:20260717
DTEND;VALUE=DATE:20260718
SUMMARY:Pobřežní festival
DESCRIPTION:Letošní\, již pátý ročník bude opět žánrově pestrý. Nabídne několik novinek\, ale i mnohé návraty a netřeba jistě dodávat\, že všechny budou milé.V neopomenutelné složce programu\, novém cirkusu\, se objeví akrobatky ze souboru Holektiv\,&nbsp\;za hudebního doprovodu violoncellistky Terezie Kovalové odehrají tanečně akrobatickou performanci s názvem Vrány.Po loňské premiéře loutkového divadla se letos objeví hned několik takových představení. Rostislav Novák starší se svojí manželkou Annou přivezou klasickou pohádku O kohoutkovi a slepičce. Loutkař Jan Kindl v představení Velké dobrodružství malého Oty připomene osobnost spisovatele Oty Pavla\, ve svém druhém kuse\, za doprovodu našeho špičkového hráče na didgeridoo Ondřeje Smeykala a za použití obřích osvětlených loutek odehraje Sen o Sargasovém moři.K návratu dojde i v oblasti hudební. Zpěvák skupiny Zrní Jan Unger přijede do třetice\, tentokrát ale s rodinným projektem Unger&nbsp\;Jansen\, přičemž za jménem&nbsp\;maďarsko-švédského básníka\, botanika a výtvarníka&nbsp\;s českými kořeny se skrývá manželská dvojice introvertů\, frontmanů kapel Zrní a&nbsp\;Dva\, tedy Honzy a jeho ženy Báry.Jméno Bára nese i další z toužebně očekávaných umělkyň. Jde o Báru Hrzánovou\, která za doprovodu skupiny Condurango ukáže\, jak vypadá "latinsko americká hudba z Budějc".Jistě neméně temperamentní bude i vystoupení další dámy\, která na louku u Přelouče zavítá. Ač mladá\, Rozálie\, tak se ta dáma jmenuje\,&nbsp\; dokáže vyprodat sály. Vězte\, že vás sedět v klidu nenechá.Muže bude reprezentovat opravdová legenda. Průřez dlouholetou tvorbou představí Luboš Pospíšil\, kterého bude doprovázet kytarista Bohumil Dvořák.Páteční večery v posledních dvou ročnících uzavírali u ohně trapští muzikanti. Nejinak tomu bude i letos\, závěr pátečního programu obstará téměř místní skupina Chrpa.Na pomezí písňového recitálu a poetického vyprávění bude vystoupení členů divadla Sklep Davida Vávry\, Lenky Vychodilové\, které hudebně doprovodí David Noll.&nbsp\;V loňském roce&nbsp\;získalo velký ohlas vyprávění o vzniku knihy Přeloučský román od jednoho z autorů\, Tomáše Mazala. Není tedy divu\, že i v tom letošním ročníku se v programu objeví místo pro jeho vzpomínání.Úplnou novinkou se stává pro letošek setkání zájemců o kreslení s "amatérskými" výtvarníky v plenéru. Kresba s Davidem Vávrou a Matějem Formanem v romantickém prostředí u řeky může být nezapomenutelným zážitkem.Naopak fotbalové utkání týmu festivalového výběru proti slovutným Sklepovským sršánům\, sice může být nezapomenutelným zážitkem\, ale jedná se o návrat k tomuto bodu programu. Mimochodem i zde se aktivně zapojí David Vávra v roli plejera pražského týmu.I v letošním roce budeme klást velký důraz na poskytované občerstvovací služby\, především na jejich rozmanitost. K pestrosti jistě přispěje i příprava paelly z rukou Matěje Formana.&nbsp\;Bližší infomace a aktuální dění sledujte na sociálních sítích a na webu festivalu&nbsp\;https://www.pobreznifestival.cz/&nbsp\;
LOCATION:Přelouč
END:VEVENT
END:VCALENDAR